BEGIN:VCALENDAR
VERSION:2.0
PRODID:-//Down Zone Gun Academy - ECPv6.15.20//NONSGML v1.0//EN
CALSCALE:GREGORIAN
METHOD:PUBLISH
X-ORIGINAL-URL:https://downzonegunacademy.com
X-WR-CALDESC:Events for Down Zone Gun Academy
REFRESH-INTERVAL;VALUE=DURATION:PT1H
X-Robots-Tag:noindex
X-PUBLISHED-TTL:PT1H
BEGIN:VTIMEZONE
TZID:America/Chicago
BEGIN:DAYLIGHT
TZOFFSETFROM:-0600
TZOFFSETTO:-0500
TZNAME:CDT
DTSTART:20200308T080000
END:DAYLIGHT
BEGIN:STANDARD
TZOFFSETFROM:-0500
TZOFFSETTO:-0600
TZNAME:CST
DTSTART:20201101T070000
END:STANDARD
BEGIN:DAYLIGHT
TZOFFSETFROM:-0600
TZOFFSETTO:-0500
TZNAME:CDT
DTSTART:20210314T080000
END:DAYLIGHT
BEGIN:STANDARD
TZOFFSETFROM:-0500
TZOFFSETTO:-0600
TZNAME:CST
DTSTART:20211107T070000
END:STANDARD
BEGIN:DAYLIGHT
TZOFFSETFROM:-0600
TZOFFSETTO:-0500
TZNAME:CDT
DTSTART:20220313T080000
END:DAYLIGHT
BEGIN:STANDARD
TZOFFSETFROM:-0500
TZOFFSETTO:-0600
TZNAME:CST
DTSTART:20221106T070000
END:STANDARD
BEGIN:DAYLIGHT
TZOFFSETFROM:-0600
TZOFFSETTO:-0500
TZNAME:CDT
DTSTART:20230312T080000
END:DAYLIGHT
BEGIN:STANDARD
TZOFFSETFROM:-0500
TZOFFSETTO:-0600
TZNAME:CST
DTSTART:20231105T070000
END:STANDARD
END:VTIMEZONE
BEGIN:VEVENT
DTSTART;TZID=America/Chicago:20220514T080000
DTEND;TZID=America/Chicago:20220514T160000
DTSTAMP:20260421T070222
CREATED:20220506T233303Z
LAST-MODIFIED:20220507T000705Z
UID:273-1652515200-1652544000@downzonegunacademy.com
SUMMARY:NRA Basics Handgun Course
DESCRIPTION:First Name(Required)Last Name(Required)Email(Required)\n                            \n                        Phone(Required)NRA Basics Handgun Course(Required)\n					\n					\n						Price:\n						\n					\n					\n				Credit  & Debit Card Payments(Required)\n					\n						Cardholder Name\n					\n					\n						Card Details
URL:https://downzonegunacademy.com/classes/nra-basics-handgun-course-3/
LOCATION:NRA Basics Handgun Course\, TBA\, Lancaster\, TX\, 75146\, United States
CATEGORIES:NRA Basics Handgun Course
ORGANIZER;CN="Down Zone Gun Academy":MAILTO:claydron@downzonegunacademy.com
END:VEVENT
BEGIN:VEVENT
DTSTART;TZID=America/Chicago:20210731T080000
DTEND;TZID=America/Chicago:20210731T160000
DTSTAMP:20260421T070222
CREATED:20210714T015240Z
LAST-MODIFIED:20210714T020358Z
UID:186-1627718400-1627747200@downzonegunacademy.com
SUMMARY:NRA Basics Handgun Course
DESCRIPTION:First Name(Required)Last Name(Required)Email(Required)\n                            \n                        Phone(Required)NRA Basics Handgun Course(Required)\n					\n					\n						Price:\n						\n					\n					\n				Credit  & Debit Card Payments(Required)\n					\n						Cardholder Name\n					\n					\n						Card Details
URL:https://downzonegunacademy.com/classes/nra-basics-handgun-course-2/
LOCATION:NRA Basics Handgun Course\, TBA\, Lancaster\, TX\, 75146\, United States
CATEGORIES:NRA Basics Handgun Course
ORGANIZER;CN="Down Zone Gun Academy":MAILTO:claydron@downzonegunacademy.com
END:VEVENT
BEGIN:VEVENT
DTSTART;TZID=America/Chicago:20210717T080000
DTEND;TZID=America/Chicago:20210717T160000
DTSTAMP:20260421T070222
CREATED:20210606T140539Z
LAST-MODIFIED:20210714T021212Z
UID:90-1626508800-1626537600@downzonegunacademy.com
SUMMARY:NRA Basics Handgun Course
DESCRIPTION:First Name(Required)Last Name(Required)Email(Required)\n                            \n                        Phone(Required)NRA Basics Handgun Course(Required)\n					\n					\n						Price:\n						\n					\n					\n				Credit  & Debit Card Payments(Required)\n					\n						Cardholder Name\n					\n					\n						Card Details
URL:https://downzonegunacademy.com/classes/nra-basics-handgun-course/
LOCATION:NRA Basics Handgun Course\, TBA\, Lancaster\, TX\, 75146\, United States
CATEGORIES:NRA Basics Handgun Course
ORGANIZER;CN="Down Zone Gun Academy":MAILTO:claydron@downzonegunacademy.com
END:VEVENT
END:VCALENDAR